BEGIN:VCALENDAR
VERSION:2.0
PRODID:-//Kilfinane Outdoor Education and Training Centre - ECPv6.15.20//NONSGML v1.0//EN
CALSCALE:GREGORIAN
METHOD:PUBLISH
X-WR-CALNAME:Kilfinane Outdoor Education and Training Centre
X-ORIGINAL-URL:https://www.kilfinaneoec.com
X-WR-CALDESC:Events for Kilfinane Outdoor Education and Training Centre
REFRESH-INTERVAL;VALUE=DURATION:PT1H
X-Robots-Tag:noindex
X-PUBLISHED-TTL:PT1H
BEGIN:VTIMEZONE
TZID:Europe/Dublin
BEGIN:DAYLIGHT
TZOFFSETFROM:+0000
TZOFFSETTO:+0100
TZNAME:IST
DTSTART:20240331T010000
END:DAYLIGHT
BEGIN:STANDARD
TZOFFSETFROM:+0100
TZOFFSETTO:+0000
TZNAME:GMT
DTSTART:20241027T010000
END:STANDARD
BEGIN:DAYLIGHT
TZOFFSETFROM:+0000
TZOFFSETTO:+0100
TZNAME:IST
DTSTART:20250330T010000
END:DAYLIGHT
BEGIN:STANDARD
TZOFFSETFROM:+0100
TZOFFSETTO:+0000
TZNAME:GMT
DTSTART:20251026T010000
END:STANDARD
BEGIN:DAYLIGHT
TZOFFSETFROM:+0000
TZOFFSETTO:+0100
TZNAME:IST
DTSTART:20260329T010000
END:DAYLIGHT
BEGIN:STANDARD
TZOFFSETFROM:+0100
TZOFFSETTO:+0000
TZNAME:GMT
DTSTART:20261025T010000
END:STANDARD
END:VTIMEZONE
BEGIN:VEVENT
DTSTART;TZID=Europe/Dublin:20250603T180000
DTEND;TZID=Europe/Dublin:20250715T210000
DTSTAMP:20260422T173042
CREATED:20250507T115649Z
LAST-MODIFIED:20250530T115829Z
UID:10000115-1748973600-1752613200@www.kilfinaneoec.com
SUMMARY:FIND YOUR SPORT - Teen Adventure Camp | 3 June- 15 July | 13-15 yrs |
DESCRIPTION:FIND YOUR SPORT – TEEN ADVENTURE CAMP \nDates: 3 / 10 / 17 /24 June & 1/15 July 2025     \nTimes: 6pm to 9pm each day \nAge: 13- 15 years  \nCost: €40 \nLocation: Meet Kilfinane OETC    \nOur Find Your Sport Teen Adventure Camp is run in conjunction with Canoeing Ireland and supported by Sport Ireland funding. \nThe aim of the camp is to help Teens find a sport they enjoy and can continue to participate in after the course. We will introduce you to a range of sports and provide information on how you can stay involved. This course is heavily subsidised and is primarily aimed at teens who are not regularly involved in sport. \nPARTICIPANTS MUST COMMIT TO ATTENDING ALL 6 EVENINGS. \nActivities will include: Kayaking\, Mountain Biking\, Rock Climbing & High Ropes\, SUP\, Hillwalking + group choice for final activity \n  \nTo book and pay online: please choose the number of tickets required\, select ‘GET TICKETS’. Then fill in the form below and click ‘Checkout Now’ \nTo pay without a Paypal a/c click ‘Checkout – Pay without a Paypal account’ to pay using your credit or debit card. \n 
URL:https://www.kilfinaneoec.com/book/find-your-sport-teen-adventure-camp/
LOCATION:Kilfinane OETC\, Limerick\, V35 R590
CATEGORIES:Camps
ATTACH;FMTTYPE=image/jpeg:https://www.kilfinaneoec.com/wp-content/uploads/Find-your-sport-Teen-Adventure-Camp.jpg
ORGANIZER;CN="Kilfinane Outdoor Education & Training Centre":MAILTO:kilfinaneoetc@lcetb.ie
END:VEVENT
BEGIN:VEVENT
DTSTART;TZID=Europe/Dublin:20250715T100000
DTEND;TZID=Europe/Dublin:20250718T160000
DTSTAMP:20260422T173042
CREATED:20250311T091317Z
LAST-MODIFIED:20250711T133809Z
UID:10000112-1752573600-1752854400@www.kilfinaneoec.com
SUMMARY:Multi-Activity Camp | 15 - 18 July | Age 10-14 |
DESCRIPTION:MULTI-ACTIVITY DAY CAMP \nDate: 15-18 July 2025     \nTimes: 10.00am to 4.00pm each day \nAge: 10-14 years  \nCost: €155 \nLocation: Kilfinane OETC    \n4 days of action packed adventure activities will include some of the following:  High Ropes\, Canoeing\, Kayaking\, Sit on top paddle boarding\, Rockwall\, Riverwalk\, Hillwalking\, Orienteering\, Bushcraft\, Team Challenges & Archery. \nTo book and pay online: please choose the number of tickets required\, select ‘GET TICKETS’. Then fill in the form below and click ‘Checkout Now’ \nTo pay without a Paypal a/c click ‘Checkout – Pay without a Paypal account’ to pay using your credit or debit card. \n 
URL:https://www.kilfinaneoec.com/book/multi-activity-camp-15-18-juyly-age-10-14/
LOCATION:Kilfinane OETC\, Limerick\, V35 R590
CATEGORIES:Camps
ATTACH;FMTTYPE=image/jpeg:https://www.kilfinaneoec.com/wp-content/uploads/Multi-activity-collage-Social-Media.jpg
ORGANIZER;CN="Kilfinane Outdoor Education & Training Centre":MAILTO:kilfinaneoetc@lcetb.ie
END:VEVENT
END:VCALENDAR