BEGIN:VCALENDAR
VERSION:2.0
PRODID:-//Kilfinane Outdoor Education and Training Centre - ECPv6.15.20//NONSGML v1.0//EN
CALSCALE:GREGORIAN
METHOD:PUBLISH
X-WR-CALNAME:Kilfinane Outdoor Education and Training Centre
X-ORIGINAL-URL:https://www.kilfinaneoec.com
X-WR-CALDESC:Events for Kilfinane Outdoor Education and Training Centre
REFRESH-INTERVAL;VALUE=DURATION:PT1H
X-Robots-Tag:noindex
X-PUBLISHED-TTL:PT1H
BEGIN:VTIMEZONE
TZID:Europe/Dublin
BEGIN:DAYLIGHT
TZOFFSETFROM:+0000
TZOFFSETTO:+0100
TZNAME:IST
DTSTART:20230326T010000
END:DAYLIGHT
BEGIN:STANDARD
TZOFFSETFROM:+0100
TZOFFSETTO:+0000
TZNAME:GMT
DTSTART:20231029T010000
END:STANDARD
BEGIN:DAYLIGHT
TZOFFSETFROM:+0000
TZOFFSETTO:+0100
TZNAME:IST
DTSTART:20240331T010000
END:DAYLIGHT
BEGIN:STANDARD
TZOFFSETFROM:+0100
TZOFFSETTO:+0000
TZNAME:GMT
DTSTART:20241027T010000
END:STANDARD
BEGIN:DAYLIGHT
TZOFFSETFROM:+0000
TZOFFSETTO:+0100
TZNAME:IST
DTSTART:20250330T010000
END:DAYLIGHT
BEGIN:STANDARD
TZOFFSETFROM:+0100
TZOFFSETTO:+0000
TZNAME:GMT
DTSTART:20251026T010000
END:STANDARD
END:VTIMEZONE
BEGIN:VEVENT
DTSTART;TZID=Europe/Dublin:20240729T093000
DTEND;TZID=Europe/Dublin:20240801T123000
DTSTAMP:20260423T091425
CREATED:20240311T160117Z
LAST-MODIFIED:20240628T083120Z
UID:10000103-1722245400-1722515400@www.kilfinaneoec.com
SUMMARY:Young Adventurers | 29 July - 1 August  | Age 7-9 |
DESCRIPTION:YOUNG ADVENTURERS \nDate: 29 JULY to 1 August  \nTimes: 9.30am to 12.30pm each day \nAge: 7-9 years \nCost: €100 \nLocation: Kilfinane OETC    \n4 half days of action packed adventure activities will include some of the following:  Canoeing\, Kayaking\, Sit on top paddle boarding\, Rockwall\, Riverwalk\, Hillwalking\, Orienteering\, Bushcraft\, Team Challenges & Archery. \nTo book and pay online: please choose the number of tickets required\, select ‘GET TICKETS’. Then fill in the form below and click ‘Checkout Now’ \nTo pay without a Paypal a/c click ‘Checkout – Pay without a Paypal account’ to pay using your credit or debit card. \n 
URL:https://www.kilfinaneoec.com/book/young-adventurers-8-11-july-age-7-9/
LOCATION:Kilfinane OETC\, Limerick\, V35 R590
CATEGORIES:Camps
ATTACH;FMTTYPE=image/jpeg:https://www.kilfinaneoec.com/wp-content/uploads/Kilfinane_OETC_Yth-Adv-Collage_T.jpg
ORGANIZER;CN="Kilfinane Outdoor Education & Training Centre":MAILTO:kilfinaneoetc@lcetb.ie
END:VEVENT
BEGIN:VEVENT
DTSTART;TZID=Europe/Dublin:20240812T100000
DTEND;TZID=Europe/Dublin:20240815T160000
DTSTAMP:20260423T091425
CREATED:20240311T155227Z
LAST-MODIFIED:20240628T083300Z
UID:10000102-1723456800-1723737600@www.kilfinaneoec.com
SUMMARY:Multi-Activity Camp | 12-15 Aug | Age 10-14 |
DESCRIPTION:MULTI-ACTIVITY CAMP \nDate: 12-15 August     \nTimes: 10.00am to 4.00pm each day \nAge: 10-14 years  \nCost: €150 \nLocation: Kilfinane OETC    \n4 days of action packed adventure activities will include some of the following:  Canoeing\, Kayaking\, Sit on top paddle boarding\, Rockwall\, Riverwalk\, Hillwalking\, Orienteering\, Bushcraft\, Team Challenges & Archery. \nTo book and pay online: please choose the number of tickets required\, select ‘GET TICKETS’. Then fill in the form below and click ‘Checkout Now’ \nTo pay without a Paypal a/c click ‘Checkout – Pay without a Paypal account’ to pay using your credit or debit card. \n 
URL:https://www.kilfinaneoec.com/book/multi-activity-camp-12-15-aug-age-10-14/
LOCATION:Kilfinane OETC\, Limerick\, V35 R590
CATEGORIES:Camps
ATTACH;FMTTYPE=image/jpeg:https://www.kilfinaneoec.com/wp-content/uploads/Kilfinane_OETC_Yth-Adv-Collage_T.jpg
ORGANIZER;CN="Kilfinane Outdoor Education & Training Centre":MAILTO:kilfinaneoetc@lcetb.ie
END:VEVENT
END:VCALENDAR