BEGIN:VCALENDAR
VERSION:2.0
PRODID:-//Kilfinane Outdoor Education and Training Centre - ECPv6.15.20//NONSGML v1.0//EN
CALSCALE:GREGORIAN
METHOD:PUBLISH
X-WR-CALNAME:Kilfinane Outdoor Education and Training Centre
X-ORIGINAL-URL:https://www.kilfinaneoec.com
X-WR-CALDESC:Events for Kilfinane Outdoor Education and Training Centre
REFRESH-INTERVAL;VALUE=DURATION:PT1H
X-Robots-Tag:noindex
X-PUBLISHED-TTL:PT1H
BEGIN:VTIMEZONE
TZID:Europe/Dublin
BEGIN:DAYLIGHT
TZOFFSETFROM:+0000
TZOFFSETTO:+0100
TZNAME:IST
DTSTART:20220327T010000
END:DAYLIGHT
BEGIN:STANDARD
TZOFFSETFROM:+0100
TZOFFSETTO:+0000
TZNAME:GMT
DTSTART:20221030T010000
END:STANDARD
BEGIN:DAYLIGHT
TZOFFSETFROM:+0000
TZOFFSETTO:+0100
TZNAME:IST
DTSTART:20230326T010000
END:DAYLIGHT
BEGIN:STANDARD
TZOFFSETFROM:+0100
TZOFFSETTO:+0000
TZNAME:GMT
DTSTART:20231029T010000
END:STANDARD
BEGIN:DAYLIGHT
TZOFFSETFROM:+0000
TZOFFSETTO:+0100
TZNAME:IST
DTSTART:20240331T010000
END:DAYLIGHT
BEGIN:STANDARD
TZOFFSETFROM:+0100
TZOFFSETTO:+0000
TZNAME:GMT
DTSTART:20241027T010000
END:STANDARD
END:VTIMEZONE
BEGIN:VEVENT
DTSTART;TZID=Europe/Dublin:20230814T100000
DTEND;TZID=Europe/Dublin:20230817T160000
DTSTAMP:20260424T013753
CREATED:20230314T163043Z
LAST-MODIFIED:20230809T084531Z
UID:10000076-1692007200-1692288000@www.kilfinaneoec.com
SUMMARY:MULTI-ACTIVITY CAMP | 14-17 AUG | 10-14 YEARS |
DESCRIPTION:MULTI-ACTIVITY CAMP \nDate: 14-17  AUG   \nTimes: 10.00am to 4.00pm each day \nAge: 10-14 years  \nCost: €145 \nLocation: Kilfinane OETC    \n4 days of action packed adventure activities will include some of the following:  Canoeing\, Kayaking\, Sit on top paddle boarding\, Rockwall\, Riverwalk\, Hillwalking\, Orienteering\, Bushcraft\, Team Challenges & Archery. \nTo book and pay online: please choose the number of tickets required\, select ‘GET TICKETS’. Then fill in the form below and click ‘Checkout Now’ \nTo pay without a Paypal a/c click ‘Checkout – Pay without a Paypal account’ to pay using your credit or debit card. \n  \n  \n 
URL:https://www.kilfinaneoec.com/book/multi-activity-camp-14-17-aug-10-14-years/
LOCATION:Kilfinane OETC\, Limerick\, V35 R590
CATEGORIES:Camps
ATTACH;FMTTYPE=image/jpeg:https://www.kilfinaneoec.com/wp-content/uploads/Multi-activity-collage-Social-Media.jpg
ORGANIZER;CN="Kilfinane Outdoor Education & Training Centre":MAILTO:kilfinaneoetc@lcetb.ie
END:VEVENT
END:VCALENDAR