BEGIN:VCALENDAR
VERSION:2.0
PRODID:-//Kilfinane Outdoor Education and Training Centre - ECPv6.15.20//NONSGML v1.0//EN
CALSCALE:GREGORIAN
METHOD:PUBLISH
X-WR-CALNAME:Kilfinane Outdoor Education and Training Centre
X-ORIGINAL-URL:https://www.kilfinaneoec.com
X-WR-CALDESC:Events for Kilfinane Outdoor Education and Training Centre
REFRESH-INTERVAL;VALUE=DURATION:PT1H
X-Robots-Tag:noindex
X-PUBLISHED-TTL:PT1H
BEGIN:VTIMEZONE
TZID:Europe/Dublin
BEGIN:DAYLIGHT
TZOFFSETFROM:+0000
TZOFFSETTO:+0100
TZNAME:IST
DTSTART:20220327T010000
END:DAYLIGHT
BEGIN:STANDARD
TZOFFSETFROM:+0100
TZOFFSETTO:+0000
TZNAME:GMT
DTSTART:20221030T010000
END:STANDARD
BEGIN:DAYLIGHT
TZOFFSETFROM:+0000
TZOFFSETTO:+0100
TZNAME:IST
DTSTART:20230326T010000
END:DAYLIGHT
BEGIN:STANDARD
TZOFFSETFROM:+0100
TZOFFSETTO:+0000
TZNAME:GMT
DTSTART:20231029T010000
END:STANDARD
BEGIN:DAYLIGHT
TZOFFSETFROM:+0000
TZOFFSETTO:+0100
TZNAME:IST
DTSTART:20240331T010000
END:DAYLIGHT
BEGIN:STANDARD
TZOFFSETFROM:+0100
TZOFFSETTO:+0000
TZNAME:GMT
DTSTART:20241027T010000
END:STANDARD
END:VTIMEZONE
BEGIN:VEVENT
DTSTART;TZID=Europe/Dublin:20230628T100000
DTEND;TZID=Europe/Dublin:20230629T153000
DTSTAMP:20260424T041351
CREATED:20230314T153745Z
LAST-MODIFIED:20230315T113410Z
UID:10000073-1687946400-1688052600@www.kilfinaneoec.com
SUMMARY:KAYAK ACADEMY | 28-29 JUNE | AGE 13-16 |
DESCRIPTION:KAYAK ACADEMY \nDate: 28-29 June   \nTimes: 10.00am to 3.30pm each day \nAge: 13-16 years  \nCost: €85 (for 2 days)  \nLocation: Lough Gur (V35 ED96)  \n2 days of  Kayaking based in Lough Gur . ALL EQUIPMENT PROVIDED.   \nTo book and pay online: please choose the number of tickets required\, select ‘GET TICKETS’. Then fill in the form below and click ‘Checkout Now’ \nTo pay without a Paypal a/c click ‘Checkout – Pay without a Paypal account’ to pay using your credit or debit card. \n 
URL:https://www.kilfinaneoec.com/book/kayak-academy-28-29-june-age-13-16-2/
LOCATION:Lough Gur\, Holycross\, Limerick\, Ireland
CATEGORIES:Camps
ATTACH;FMTTYPE=image/jpeg:https://www.kilfinaneoec.com/wp-content/uploads/kayak_blank_poster_crop.jpg
ORGANIZER;CN="Kilfinane Outdoor Education & Training Centre":MAILTO:kilfinaneoetc@lcetb.ie
END:VEVENT
END:VCALENDAR